{"text_format":"1","workbook":"xlsx","n_sheets":6,"sheets":["実施結果シート","シート (1)","シート (2)","シート (3)","シート (4)","シート (5)"],"not_rendered":{"charts":0,"images":0,"macros":1,"external_links":0,"defined_names":6,"comments":5,"pivot_tables":0},"unopened":[],"bounds":{"document_bytes":16777216,"sheet_cells":100000,"rows_first":2000,"rows_last":500,"rows_between":2000,"halvings":0,"cell_chars":16384,"cell_head_chars":4096},"cells_cut":0,"cells_raw":0,"read":"whole","date_system":"1900"}

{"sheet":"実施結果シート","index":0,"n_rows":22,"n_cols":21,"rows_kept":22,"cut":false,"hidden":false,"merged":[[14,12,18,12],[14,19,18,19],[14,20,18,20],[2,19,2,20],[4,3,4,7],[5,3,5,7],[5,8,5,13],[5,14,5,18],[4,8,4,18],[14,6,18,6],[14,7,18,7],[14,8,18,8],[14,9,18,9],[14,10,18,10],[8,20,9,20],[8,19,9,19],[14,1,18,1],[14,11,18,11],[14,2,18,2],[14,3,18,3],[14,4,18,4],[14,5,18,5],[11,1,13,1],[11,2,13,2],[11,3,13,3],[11,4,13,4],[11,5,13,5],[11,11,13,11],[11,12,13,12],[11,19,13,19],[11,20,13,20],[11,6,13,6],[11,7,13,7],[11,8,13,8],[11,9,13,9],[11,10,13,10],[8,1,9,1],[8,13,9,13],[8,7,8,9],[8,10,8,12],[8,14,8,16],[8,17,9,17],[8,18,9,18],[8,6,9,6],[8,2,9,2],[8,3,8,5]]}
[]
[]
[null,null,null,null,null,null,"プロセス災害防止のためのリスクアセスメント等実施結果シート",null,null,null,null,null,null,null,null,null,null,null,null,"実施担当者と実施日"]
[null,null,null,null,null,null,null,null,null,null,null,null,null,null,null,null,null,null,null,"理須区一郎","○年○月○日"]
[null,null,null,"取り扱い物質及びプロセスに係る危険源の把握結果",null,null,null,null,"作業・操作，設備・装置とその目的"]
[null,null,null,{"$f":"'シート (1)'!D13","v":"3 可燃性・引火性，5　可燃性粉じん，13　高圧・繰り返し昇圧・降圧，17　高電圧／高電流"},null,null,null,null,{"$f":"'シート (1)'!B1","v":"（操作）２．操作（仕込み・混合・払い出し）：全排出バルブを閉とする．"},null,null,null,null,null,{"$f":"'シート (1)'!C1","v":"（目的）ライン内を不活性雰囲気にし，粉じん爆発を防ぐ"}]
[]
[]
[null,"実施日","実施者","①引き金事象の特定とシナリオ同定",null,null,"②既存のリスク低減措置の確認","②リスク見積りと評価（その１）既存のリスク低減措置が無いと仮定した場合",null,null,"②リスク見積りと評価（その２）既存のリスク低減措置の有効性確認",null,null,"③追加のリスク低減措置の検討","③リスク見積りと評価（その３）追加のリスク低減措置の有効性確認",null,null,"③追加のリスク低減措置の実装可否","③リスク低減措置の機能を維持するための現場作業者への注意事項等","③その他，生産開始後の現場作業者に特に伝えておくべき事項","備考"]
[null,null,null,"引き金事象\n（初期事象）","プロセス異常\n（中間事象）","プロセス災害\n（結果事象）",null,"重篤度","頻度","リスク\nレベル","重篤度","頻度","リスク\nレベル",null,"重篤度","頻度","リスク\nレベル"]
[]
[null,"○年○月○日","○○○○","V110を誤って開とする．","粉じんが洗浄排水槽に流れ込み，槽の排ガス口から粉じん及び窒素が放出される可能性がある．槽の排ガス口付近に高濃度の窒素が滞留する可能性がある．","洗浄排水槽の排ガス口付近で酸欠となる可能性がある．","無し","×","△","Ⅲ","","","","イ）　V110自動弁化によるインターロックシステムを導入する．（B-a）ただし，操作フェーズがわからないと，的確に動作しないため，シーケンスの製作導入が必要となる．","×","○","Ⅱ","イ）　シーケンスの製作導入を行うことで実装可能である．","イ）　インターロックについては，センサーや駆動部の外観点検を行う．また，定期的にインターロックの動作確認を行う．","残留リスクの有無の確認：有\n本作業において酸欠災害の可能性があることと，実装されているリスク低減措置及びその実装理由をマニュアル等に明示し，定期的に作業者への教育を行う．",""]
[null,null,null,null,null,null,null,null,null,null,null,null,null,"ロ）　V111の開・閉状態が外部から見て分かるような表示装置を設置し，バルブに開・閉表示札を設置する．（C-a）","×","○","Ⅱ","ロ）　既存のリスク低減措置などと干渉しあうことがないので，実装可能である．","ロ）　毎日の巡視において，表示がされていることを確認する．"]
[null,null,null,null,null,null,null,null,null,null,null,null,null,"ハ)　払出し時は，槽類の放出口や周辺で作業しないようにマニュアル等に明示する．（C-c）","×","○","Ⅱ","ハ）　既存のリスク低減措置などと干渉しあうことがないので，実装可能である．","ハ）　毎日の巡視において，不安全行動がないかを確認する．また，定期的にマニュアル等の監査を行い，明示されていることを確認する．"]
[null,"○年○月○日","○○○○","V110を誤って開とする．","粉じんが洗浄排水槽に流れ込み，槽の排ガス口から粉じん及び窒素が放出される可能性がある．放出された粉体が粉じん気を形成し，静電気放電等により着火する可能性がある．","洗浄排水槽の排ガス口付近で粉じん爆発が発生する可能性がある．","無し","×","△","Ⅲ","","","","イ）　V110自動弁化によるインターロックシステムを導入する．（B-a）ただし，操作フェーズがわからないと，的確に動作しないため，シーケンスの製作導入が必要となる．","×","○","Ⅱ","イ）　シーケンスの製作導入を行うことで実装可能である．","イ）　インターロックについては，センサーや駆動部の外観点検を行う．また，定期的にインターロックの動作確認を行う．","残留リスクの有無の確認：有\n本作業において粉じん爆発の可能性があることと，実装されているリスク低減措置及びその実装理由をマニュアル等に明示し，定期的に作業者への教育を行う．\n点検記録等のルールおよび管理規則や記録を確認する．",""]
[null,null,null,null,null,null,null,null,null,null,null,null,null,"ロ）　V111の開・閉状態が外部から見て分かるような表示装置を設置し，バルブに開・閉表示札を設置する．（C-a）","×","○","Ⅱ","ロ）　既存のリスク低減措置などと干渉しあうことがないので，実装可能である．","ロ）　毎日の巡視において，表示がされていることを確認する．"]
[null,null,null,null,null,null,null,null,null,null,null,null,null,"ハ)　洗浄排水槽の排ガスをスクラバーに通す設計とする（スクラバー能力増を含む）．（B-c）","×","○","Ⅱ","ハ）　既存のリスク低減措置などと干渉しあうことがないので，実装可能である．","ハ）　洗浄排水槽については，日常の点検で目視により外観に異常がないか確認する．また，定期的にスクラバーの点検，清掃を行う．"]
[null,null,null,null,null,null,null,null,null,null,null,null,null,"ニ）　スクラバー，特にガス放出口はアースを取って置く（B-c）","×","○","Ⅱ","ニ）　既存のリスク低減措置などと干渉しあうことがないので，実装可能である．","ニ）　接地線が断線していないことを定期的に確認する． "]
[null,null,null,null,null,null,null,null,null,null,null,null,null,"ホ）　 払出し時は，槽類の放出口や周辺で作業しないようにマニュアル等に明示する．同様に，火気取扱注意の旨を明示する（C-c）","×","○","Ⅱ","ホ）　上記の対策に含めて火気取扱注意の掲示を行うことで可能である．","ホ）　毎日の巡視において，不安全行動がないかを確認するとともに，表示がされていることを確認する．"]
[null,"○年○月○日","○○○○","","","","・○○○　＜種類＞＜目的＞","","","","","","","イ）○○○　＜種類＞＜目的＞\n・追加リスク低減措置ごとにリスクを見積り，評価する","","","","イ）","イ）","残留リスクの有無の確認： 有　無\n残留リスクへの対応方法： ",""]
[null,"○年○月○日","○○○○","","","","・○○○　＜種類＞＜目的＞","","","","","","","イ）○○○　＜種類＞＜目的＞\n・追加リスク低減措置ごとにリスクを見積り，評価する","","","","イ）　","イ）　","残留リスクの有無の確認： 有　無\n残留リスクへの対応方法： ",""]
[null,"○年○月○日","○○○○","","","","・○○○　＜種類＞＜目的＞","","","","","","","イ）○○○　＜種類＞＜目的＞\n・追加リスク低減措置ごとにリスクを見積り，評価する","","","","イ）　","イ）　","残留リスクの有無の確認： 有　無\n残留リスクへの対応方法： ",""]

{"sheet":"シート (1)","index":1,"n_rows":45,"n_cols":23,"rows_kept":45,"cut":false,"hidden":false,"merged":[[16,1,17,2],[16,3,16,5],[16,6,17,8],[17,3,17,5],[8,6,8,8],[9,6,9,8],[12,1,12,2],[12,3,12,5],[12,6,12,8],[18,1,20,1],[18,3,18,5],[18,6,18,8],[19,3,19,5],[19,6,19,8],[20,3,20,5],[20,6,20,8],[21,1,21,2],[21,3,21,5],[21,6,25,8],[22,1,23,2],[24,1,25,2],[30,3,30,5],[31,3,31,5],[32,1,36,2],[32,3,32,8],[33,3,33,8],[34,3,34,8],[35,3,35,8],[36,3,36,8],[26,1,31,2],[26,3,26,5],[27,3,27,5],[28,3,28,5],[29,3,29,5],[37,1,41,2],[37,3,37,8],[38,3,38,8],[39,3,39,8],[40,3,40,8],[41,3,41,8],[42,1,43,2],[42,3,42,8],[43,3,43,8],[44,1,44,2],[44,3,44,8]]}
[{"$f":"COUNTIF(D28:F32,\"??????*\")","v":3},{"$f":"D17","v":"（操作）２．操作（仕込み・混合・払い出し）：全排出バルブを閉とする．"},{"$f":"D18","v":"（目的）ライン内を不活性雰囲気にし，粉じん爆発を防ぐ"}]
[null,{"$f":"IF(G9=0,\"\",G9)","v":"○年○月○日"},{"$f":"IF(G10=0,\"\",G10)","v":"○○○○"},{"$f":"IF(D19=0,\"\",D19)","v":"V110を誤って開とする．"},{"$f":"IF(D20=0,\"\",D20)","v":"粉じんが洗浄排水槽に流れ込み，槽の排ガス口から粉じん及び窒素が放出される可能性がある．槽の排ガス口付近に高濃度の窒素が滞留する可能性がある．"},{"$f":"IF(D21=0,\"\",D21)","v":"洗浄排水槽の排ガス口付近で酸欠となる可能性がある．"},{"$f":"IF(D22=0,\"\",D22)","v":"無し"},{"$f":"IF(D24=$S$23,\"\",D24)","v":"×"},{"$f":"IF(E24=$S$23,\"\",E24)","v":"△"},{"$f":"IF(F24=$T$23,\"\",F24)","v":"Ⅲ"},{"$f":"IF(D26=$S$23,\"\",D26)","v":""},{"$f":"IF(E26=$S$23,\"\",E26)","v":""},{"$f":"IF(F26=$T$23,\"\",F26)","v":""},{"$f":"IF(D28=0,\"\",D28)","v":"イ）　V110自動弁化によるインターロックシステムを導入する．（B-a）ただし，操作フェーズがわからないと，的確に動作しないため，シーケンスの製作導入が必要となる．"},{"$f":"IF(G28=$S$23,\"\",G28)","v":"×"},{"$f":"IF(H28=$S$23,\"\",H28)","v":"○"},{"$f":"IF(I28=$T$23,\"\",I28)","v":"Ⅱ"},{"$f":"IF(D33=0,\"\",D33)","v":"イ）　シーケンスの製作導入を行うことで実装可能である．"},{"$f":"IF(D38=0,\"\",D38)","v":"イ）　インターロックについては，センサーや駆動部の外観点検を行う．また，定期的にインターロックの動作確認を行う．"},{"$f":"CONCATENATE(IF(D43=0,\"\",D43),IF(D44=0,\"\",CHAR(10)),IF(D44=0,\"\",D44))","v":"残留リスクの有無の確認：有\n本作業において酸欠災害の可能性があることと，実装されているリスク低減措置及びその実装理由をマニュアル等に明示し，定期的に作業者への教育を行う．"},{"$f":"IF(D45=0,\"\",D45)","v":""}]
[null,null,null,null,null,null,null,null,null,null,null,null,null,{"$f":"IF(D29=0,\"\",D29)","v":"ロ）　V111の開・閉状態が外部から見て分かるような表示装置を設置し，バルブに開・閉表示札を設置する．（C-a）"},{"$f":"G29","v":"×"},"○","Ⅱ",{"$f":"IF(D34=0,\"\",D34)","v":"ロ）　既存のリスク低減措置などと干渉しあうことがないので，実装可能である．"},{"$f":"IF(D39=0,\"\",D39)","v":"ロ）　毎日の巡視において，表示がされていることを確認する．"}]
[null,null,null,null,null,null,null,null,null,null,null,null,null,{"$f":"IF(D30=0,\"\",D30)","v":"ハ)　払出し時は，槽類の放出口や周辺で作業しないようにマニュアル等に明示する．（C-c）"},"×","○","Ⅱ",{"$f":"IF(D35=0,\"\",D35)","v":"ハ）　既存のリスク低減措置などと干渉しあうことがないので，実装可能である．"},{"$f":"IF(D40=0,\"\",D40)","v":"ハ）　毎日の巡視において，不安全行動がないかを確認する．また，定期的にマニュアル等の監査を行い，明示されていることを確認する．"}]
[null,null,null,null,null,null,null,null,null,null,null,null,null,{"$f":"IF(D31=0,\"\",D31)","v":"ニ）"},"","","",{"$f":"IF(D36=0,\"\",D36)","v":"ニ）"},{"$f":"IF(D41=0,\"\",D41)","v":"ニ）"}]
[null,null,null,null,null,null,null,null,null,null,null,null,null,{"$f":"IF(D32=0,\"\",D32)","v":"ホ）"},"","","",{"$f":"IF(D37=0,\"\",D37)","v":"ホ）"},{"$f":"IF(D42=0,\"\",D42)","v":"ホ）"}]
[null,null,"※この上６行は、実施結果シートへのデータ処理用に使用しています。改変をしないでください。※"]
[null,null,"プロセス災害防止のためのリスクアセスメント等実施シート",null,null,null,null,"Ver.1.04"]
[null,null,null,null,null,"実施日","○年○月○日"]
[null,null,null,null,null,"実施者（記載者）","○○○○"]
[null,"STEP 1　取り扱い物質及びプロセスに係る危険源の把握"]
[null,null,null,null,null,"太枠線内に記入　"]
[null,"取り扱い物質及びプロセスに係る危険源の把握結果",null,"3 可燃性・引火性，5　可燃性粉じん，13　高圧・繰り返し昇圧・降圧，17　高電圧／高電流",null,null,"表４の質問票で「はい」に○が付いた項目"]
[]
[null,"STEP 2　リスクアセスメント等の実施"]
[null,null,null,null,null,"太枠線内に記入　"]
[null,"作業・操作，設備・装置と\nその目的",null,"（操作）２．操作（仕込み・混合・払い出し）：全排出バルブを閉とする．"]
[null,null,null,"（目的）ライン内を不活性雰囲気にし，粉じん爆発を防ぐ"]
[null,"①引き金事象特定とシナリオ同定","引き金事象\n（初期事象）","V110を誤って開とする．",null,null,"（参考：表5～表7）"]
[null,null,"プロセス異常\n（中間事象）","粉じんが洗浄排水槽に流れ込み，槽の排ガス口から粉じん及び窒素が放出される可能性がある．槽の排ガス口付近に高濃度の窒素が滞留する可能性がある．"]
[null,null,"プロセス災害\n（結果事象）","洗浄排水槽の排ガス口付近で酸欠となる可能性がある．",null,null,"（参考：表8，過去\nの事故事例など）"]
[null,"②既存のリスク低減措置の確認",null,"無し",null,null,"●リスク低減措置実施（実装）の種類 （表9,10）\nA)　本質安全対策\nB)　工学的対策\nC)　管理的対策性\nD)　保護具着用\n●リスク低減措置の目的\na) 異常発生防止\nb) 異常発生検知\nc) 事故発生防止\nd) 被害の局限化",null,null,null,null,"※ボタンと自動表示の作業用です※"]
[null,"②リスク見積りと評価\n（その１）既存のリスク低減\n措置が無いと仮定した場合",null,"重篤度　(表11)","頻度　(表11)","リスクレベル　(表11)",null,null,null,null,null,null,null,null,null,null,null,null,"選択してください","自動表示します","自動表示します","自動表示します","自動表示します"]
[null,null,null,{"$f":"IF(M24=0,\"\",M24)","v":"×"},{"$f":"IF(O24=0,\"\",O24)","v":"△"},{"$f":"IF(Q24=0,\"\",Q24)","v":"Ⅲ"},null,null,null,null,null,4,{"$f":"OFFSET($S$22,L24,0)","v":"×"},3,{"$f":"OFFSET($S$22,N24,0)","v":"△"},null,{"$f":"OFFSET($T$23,L24-1,N24-1)","v":"Ⅲ"},null,"○","自動表示します","Ⅰ","Ⅰ","Ⅱ"]
[null,"②リスク見積りと評価\n（その２）既存のリスク低減\n措置の有効性確認",null,"重篤度","頻度","リスクレベル",null,null,null,null,null,null,null,null,null,null,null,null,"△","自動表示します","Ⅰ","Ⅱ","Ⅲ"]
[null,null,null,{"$f":"IF(M26=0,\"\",M26)","v":""},{"$f":"IF(O26=0,\"\",O26)","v":""},{"$f":"IF(Q26=0,\"\",Q26)","v":""},null,null,null,null,null,5,{"$f":"OFFSET($S$22,L26,0)","v":0},5,{"$f":"OFFSET($S$22,N26,0)","v":0},null,{"$f":"OFFSET($T$23,L26-1,N26-1)","v":0},null,"×","自動表示します","Ⅱ","Ⅲ","Ⅲ"]
[null,"③追加のリスク低減措置の検討＆\n③リスク見積りと評価（その３）\n追加のリスク低減措置の\n有効性確認",null,"太枠線内に記入　",null,null,"重篤度","頻度","リスクレベル"]
[null,null,null,"イ）　V110自動弁化によるインターロックシステムを導入する．（B-a）ただし，操作フェーズがわからないと，的確に動作しないため，シーケンスの製作導入が必要となる．",null,null,{"$f":"IF(M28=0,\"\",M28)","v":"×"},{"$f":"IF(O28=0,\"\",O28)","v":"○"},{"$f":"IF(Q28=0,\"\",Q28)","v":"Ⅱ"},null,null,4,{"$f":"OFFSET($S$22,L28,0)","v":"×"},2,{"$f":"OFFSET($S$22,N28,0)","v":"○"},null,{"$f":"OFFSET($T$23,L28-1,N28-1)","v":"Ⅱ"}]
[null,null,null,"ロ）　V111の開・閉状態が外部から見て分かるような表示装置を設置し，バルブに開・閉表示札を設置する．（C-a）",null,null,{"$f":"IF(M29=0,\"\",M29)","v":"×"},{"$f":"IF(O29=0,\"\",O29)","v":"○"},{"$f":"IF(Q29=0,\"\",Q29)","v":"Ⅱ"},null,null,4,{"$f":"OFFSET($S$22,L29,0)","v":"×"},2,{"$f":"OFFSET($S$22,N29,0)","v":"○"},null,{"$f":"OFFSET($T$23,L29-1,N29-1)","v":"Ⅱ"}]
[null,null,null,"ハ)　払出し時は，槽類の放出口や周辺で作業しないようにマニュアル等に明示する．（C-c）",null,null,{"$f":"IF(M30=0,\"\",M30)","v":"×"},{"$f":"IF(O30=0,\"\",O30)","v":"○"},{"$f":"IF(Q30=0,\"\",Q30)","v":"Ⅱ"},null,null,4,{"$f":"OFFSET($S$22,L30,0)","v":"×"},2,{"$f":"OFFSET($S$22,N30,0)","v":"○"},null,{"$f":"OFFSET($T$23,L30-1,N30-1)","v":"Ⅱ"}]
[null,null,null,"ニ）",null,null,{"$f":"IF(M31=0,\"\",M31)","v":""},{"$f":"IF(O31=0,\"\",O31)","v":""},{"$f":"IF(Q31=0,\"\",Q31)","v":""},null,null,5,{"$f":"OFFSET($S$22,L31,0)","v":0},5,{"$f":"OFFSET($S$22,N31,0)","v":0},null,{"$f":"OFFSET($T$23,L31-1,N31-1)","v":0}]
[null,null,null,"ホ）",null,null,{"$f":"IF(M32=0,\"\",M32)","v":""},{"$f":"IF(O32=0,\"\",O32)","v":""},{"$f":"IF(Q32=0,\"\",Q32)","v":""},null,null,5,{"$f":"OFFSET($S$22,L32,0)","v":0},5,{"$f":"OFFSET($S$22,N32,0)","v":0},null,{"$f":"OFFSET($T$23,L32-1,N32-1)","v":0}]
[null,"③追加のリスク低減措置の\n実装可否",null,"イ）　シーケンスの製作導入を行うことで実装可能である．"]
[null,null,null,"ロ）　既存のリスク低減措置などと干渉しあうことがないので，実装可能である．"]
[null,null,null,"ハ）　既存のリスク低減措置などと干渉しあうことがないので，実装可能である．"]
[null,null,null,"ニ）"]
[null,null,null,"ホ）"]
[null,"③リスク低減措置の機能を維持するための現場作業者への注意事項等",null,"イ）　インターロックについては，センサーや駆動部の外観点検を行う．また，定期的にインターロックの動作確認を行う．"]
[null,null,null,"ロ）　毎日の巡視において，表示がされていることを確認する．"]
[null,null,null,"ハ）　毎日の巡視において，不安全行動がないかを確認する．また，定期的にマニュアル等の監査を行い，明示されていることを確認する．"]
[null,null,null,"ニ）"]
[null,null,null,"ホ）"]
[null,"③その他，生産開始後の現場作業者に特に伝えておくべき事項",null,"残留リスクの有無の確認：有"]
[null,null,null,"本作業において酸欠災害の可能性があることと，実装されているリスク低減措置及びその実装理由をマニュアル等に明示し，定期的に作業者への教育を行う．"]
[null,"備　考"]

{"sheet":"シート (2)","index":2,"n_rows":45,"n_cols":23,"rows_kept":45,"cut":false,"hidden":false,"merged":[[16,1,17,2],[16,3,16,5],[16,6,17,8],[17,3,17,5],[8,6,8,8],[9,6,9,8],[12,1,12,2],[12,3,12,5],[12,6,12,8],[18,1,20,1],[18,3,18,5],[18,6,18,8],[19,3,19,5],[19,6,19,8],[20,3,20,5],[20,6,20,8],[21,1,21,2],[21,3,21,5],[21,6,25,8],[22,1,23,2],[24,1,25,2],[30,3,30,5],[31,3,31,5],[32,1,36,2],[32,3,32,8],[33,3,33,8],[34,3,34,8],[35,3,35,8],[36,3,36,8],[26,1,31,2],[26,3,26,5],[27,3,27,5],[28,3,28,5],[29,3,29,5],[37,1,41,2],[37,3,37,8],[38,3,38,8],[39,3,39,8],[40,3,40,8],[41,3,41,8],[42,1,43,2],[42,3,42,8],[43,3,43,8],[44,1,44,2],[44,3,44,8]]}
[{"$f":"COUNTIF(D28:F32,\"??????*\")","v":5},{"$f":"D17","v":"（操作）２．操作（仕込み・混合・払い出し）：全排出バルブを閉とする．"},{"$f":"D18","v":"（目的）ライン内を不活性雰囲気にし，粉じん爆発を防ぐ"}]
[null,{"$f":"IF(G9=0,\"\",G9)","v":"○年○月○日"},{"$f":"IF(G10=0,\"\",G10)","v":"○○○○"},{"$f":"IF(D19=0,\"\",D19)","v":"V110を誤って開とする．"},{"$f":"IF(D20=0,\"\",D20)","v":"粉じんが洗浄排水槽に流れ込み，槽の排ガス口から粉じん及び窒素が放出される可能性がある．放出された粉体が粉じん気を形成し，静電気放電等により着火する可能性がある．"},{"$f":"IF(D21=0,\"\",D21)","v":"洗浄排水槽の排ガス口付近で粉じん爆発が発生する可能性がある．"},{"$f":"IF(D22=0,\"\",D22)","v":"無し"},{"$f":"IF(D24=$S$23,\"\",D24)","v":"×"},{"$f":"IF(E24=$S$23,\"\",E24)","v":"△"},{"$f":"IF(F24=$T$23,\"\",F24)","v":"Ⅲ"},{"$f":"IF(D26=$S$23,\"\",D26)","v":""},{"$f":"IF(E26=$S$23,\"\",E26)","v":""},{"$f":"IF(F26=$T$23,\"\",F26)","v":""},{"$f":"IF(D28=0,\"\",D28)","v":"イ）　V110自動弁化によるインターロックシステムを導入する．（B-a）ただし，操作フェーズがわからないと，的確に動作しないため，シーケンスの製作導入が必要となる．"},{"$f":"IF(G28=$S$23,\"\",G28)","v":"×"},{"$f":"IF(H28=$S$23,\"\",H28)","v":"○"},{"$f":"IF(I28=$T$23,\"\",I28)","v":"Ⅱ"},{"$f":"IF(D33=0,\"\",D33)","v":"イ）　シーケンスの製作導入を行うことで実装可能である．"},{"$f":"IF(D38=0,\"\",D38)","v":"イ）　インターロックについては，センサーや駆動部の外観点検を行う．また，定期的にインターロックの動作確認を行う．"},{"$f":"CONCATENATE(IF(D43=0,\"\",D43),IF(D44=0,\"\",CHAR(10)),IF(D44=0,\"\",D44))","v":"残留リスクの有無の確認：有\n本作業において粉じん爆発の可能性があることと，実装されているリスク低減措置及びその実装理由をマニュアル等に明示し，定期的に作業者への教育を行う．\n点検記録等のルールおよび管理規則や記録を確認する．"},{"$f":"IF(D45=0,\"\",D45)","v":""}]
[null,null,null,null,null,null,null,null,null,null,null,null,null,{"$f":"IF(D29=0,\"\",D29)","v":"ロ）　V111の開・閉状態が外部から見て分かるような表示装置を設置し，バルブに開・閉表示札を設置する．（C-a）"},{"$f":"G29","v":"×"},"○","Ⅱ",{"$f":"IF(D34=0,\"\",D34)","v":"ロ）　既存のリスク低減措置などと干渉しあうことがないので，実装可能である．"},{"$f":"IF(D39=0,\"\",D39)","v":"ロ）　毎日の巡視において，表示がされていることを確認する．"}]
[null,null,null,null,null,null,null,null,null,null,null,null,null,{"$f":"IF(D30=0,\"\",D30)","v":"ハ)　洗浄排水槽の排ガスをスクラバーに通す設計とする（スクラバー能力増を含む）．（B-c）"},"×","○","Ⅱ",{"$f":"IF(D35=0,\"\",D35)","v":"ハ）　既存のリスク低減措置などと干渉しあうことがないので，実装可能である．"},{"$f":"IF(D40=0,\"\",D40)","v":"ハ）　洗浄排水槽については，日常の点検で目視により外観に異常がないか確認する．また，定期的にスクラバーの点検，清掃を行う．"}]
[null,null,null,null,null,null,null,null,null,null,null,null,null,{"$f":"IF(D31=0,\"\",D31)","v":"ニ）　スクラバー，特にガス放出口はアースを取って置く（B-c）"},"×","○","Ⅱ",{"$f":"IF(D36=0,\"\",D36)","v":"ニ）　既存のリスク低減措置などと干渉しあうことがないので，実装可能である．"},{"$f":"IF(D41=0,\"\",D41)","v":"ニ）　接地線が断線していないことを定期的に確認する． "}]
[null,null,null,null,null,null,null,null,null,null,null,null,null,{"$f":"IF(D32=0,\"\",D32)","v":"ホ）　 払出し時は，槽類の放出口や周辺で作業しないようにマニュアル等に明示する．同様に，火気取扱注意の旨を明示する（C-c）"},"×","○","Ⅱ",{"$f":"IF(D37=0,\"\",D37)","v":"ホ）　上記の対策に含めて火気取扱注意の掲示を行うことで可能である．"},{"$f":"IF(D42=0,\"\",D42)","v":"ホ）　毎日の巡視において，不安全行動がないかを確認するとともに，表示がされていることを確認する．"}]
[null,null,"※この上６行は、実施結果シートへのデータ処理用に使用しています。改変をしないでください。※"]
[null,null,"プロセス災害防止のためのリスクアセスメント等実施シート"]
[null,null,null,null,null,"実施日","○年○月○日"]
[null,null,null,null,null,"実施者（記載者）","○○○○"]
[null,"STEP 1　取り扱い物質及びプロセスに係る危険源の把握"]
[]
[null,"取り扱い物質及びプロセスに係る危険源の把握結果",null,{"$f":"'シート (1)'!D13","v":"3 可燃性・引火性，5　可燃性粉じん，13　高圧・繰り返し昇圧・降圧，17　高電圧／高電流"},null,null,"表４の質問票で「はい」に○が付いた項目"]
[]
[null,"STEP 2　リスクアセスメント等の実施"]
[null,null,null,null,null,"太枠線内に記入　"]
[null,"作業・操作，設備・装置と\nその目的",null,{"$f":"'シート (1)'!D17","v":"（操作）２．操作（仕込み・混合・払い出し）：全排出バルブを閉とする．"}]
[null,null,null,{"$f":"'シート (1)'!D18","v":"（目的）ライン内を不活性雰囲気にし，粉じん爆発を防ぐ"}]
[null,"①引き金事象の特定とシナリオ同定","引き金事象\n（初期事象）","V110を誤って開とする．",null,null,"（参考：表5～表7）"]
[null,null,"プロセス異常\n（中間事象）","粉じんが洗浄排水槽に流れ込み，槽の排ガス口から粉じん及び窒素が放出される可能性がある．放出された粉体が粉じん気を形成し，静電気放電等により着火する可能性がある．"]
[null,null,"プロセス災害\n（結果事象）","洗浄排水槽の排ガス口付近で粉じん爆発が発生する可能性がある．",null,null,"（参考：表8，過去\nの事故事例など）"]
[null,"②既存のリスク低減措置の確認",null,"無し",null,null,"●リスク低減措置実施（実装）の種類 （表9,10）\nA)　本質安全対策\nB)　工学的対策\nC)　管理的対策性\nD)　保護具着用\n●リスク低減措置の目的\na) 異常発生防止\nb) 異常発生検知\nc) 事故発生防止\nd) 被害の局限化",null,null,null,null,"※ボタンと自動表示の作業用です※"]
[null,"②リスク見積りと評価\n（その１）既存のリスク低減\n措置が無いと仮定した場合",null,"重篤度　(表11)","頻度　(表11)","リスクレベル　(表11)",null,null,null,null,null,null,null,null,null,null,null,null,"選択してください","自動表示します","自動表示します","自動表示します","自動表示します"]
[null,null,null,{"$f":"IF(M24=0,\"\",M24)","v":"×"},{"$f":"IF(O24=0,\"\",O24)","v":"△"},{"$f":"IF(Q24=0,\"\",Q24)","v":"Ⅲ"},null,null,null,null,null,4,{"$f":"OFFSET($S$22,L24,0)","v":"×"},3,{"$f":"OFFSET($S$22,N24,0)","v":"△"},null,{"$f":"OFFSET($T$23,L24-1,N24-1)","v":"Ⅲ"},null,"○","自動表示します","Ⅰ","Ⅰ","Ⅱ"]
[null,"②リスク見積りと評価\n（その２）既存のリスク低減\n措置の有効性確認",null,"重篤度","頻度","リスクレベル",null,null,null,null,null,null,null,null,null,null,null,null,"△","自動表示します","Ⅰ","Ⅱ","Ⅲ"]
[null,null,null,{"$f":"IF(M26=0,\"\",M26)","v":""},{"$f":"IF(O26=0,\"\",O26)","v":""},{"$f":"IF(Q26=0,\"\",Q26)","v":""},null,null,null,null,null,5,{"$f":"OFFSET($S$22,L26,0)","v":0},5,{"$f":"OFFSET($S$22,N26,0)","v":0},null,{"$f":"OFFSET($T$23,L26-1,N26-1)","v":0},null,"×","自動表示します","Ⅱ","Ⅲ","Ⅲ"]
[null,"③追加のリスク低減措置の検討＆\n③リスク見積りと評価（その３）\n追加のリスク低減措置の\n有効性確認",null,"太枠線内に記入　",null,null,"重篤度","頻度","リスクレベル"]
[null,null,null,"イ）　V110自動弁化によるインターロックシステムを導入する．（B-a）ただし，操作フェーズがわからないと，的確に動作しないため，シーケンスの製作導入が必要となる．",null,null,{"$f":"IF(M28=0,\"\",M28)","v":"×"},{"$f":"IF(O28=0,\"\",O28)","v":"○"},{"$f":"IF(Q28=0,\"\",Q28)","v":"Ⅱ"},null,null,4,{"$f":"OFFSET($S$22,L28,0)","v":"×"},2,{"$f":"OFFSET($S$22,N28,0)","v":"○"},null,{"$f":"OFFSET($T$23,L28-1,N28-1)","v":"Ⅱ"}]
[null,null,null,"ロ）　V111の開・閉状態が外部から見て分かるような表示装置を設置し，バルブに開・閉表示札を設置する．（C-a）",null,null,{"$f":"IF(M29=0,\"\",M29)","v":"×"},{"$f":"IF(O29=0,\"\",O29)","v":"○"},{"$f":"IF(Q29=0,\"\",Q29)","v":"Ⅱ"},null,null,4,{"$f":"OFFSET($S$22,L29,0)","v":"×"},2,{"$f":"OFFSET($S$22,N29,0)","v":"○"},null,{"$f":"OFFSET($T$23,L29-1,N29-1)","v":"Ⅱ"}]
[null,null,null,"ハ)　洗浄排水槽の排ガスをスクラバーに通す設計とする（スクラバー能力増を含む）．（B-c）",null,null,{"$f":"IF(M30=0,\"\",M30)","v":"×"},{"$f":"IF(O30=0,\"\",O30)","v":"○"},{"$f":"IF(Q30=0,\"\",Q30)","v":"Ⅱ"},null,null,4,{"$f":"OFFSET($S$22,L30,0)","v":"×"},2,{"$f":"OFFSET($S$22,N30,0)","v":"○"},null,{"$f":"OFFSET($T$23,L30-1,N30-1)","v":"Ⅱ"}]
[null,null,null,"ニ）　スクラバー，特にガス放出口はアースを取って置く（B-c）",null,null,{"$f":"IF(M31=0,\"\",M31)","v":"×"},{"$f":"IF(O31=0,\"\",O31)","v":"○"},{"$f":"IF(Q31=0,\"\",Q31)","v":"Ⅱ"},null,null,4,{"$f":"OFFSET($S$22,L31,0)","v":"×"},2,{"$f":"OFFSET($S$22,N31,0)","v":"○"},null,{"$f":"OFFSET($T$23,L31-1,N31-1)","v":"Ⅱ"}]
[null,null,null,"ホ）　 払出し時は，槽類の放出口や周辺で作業しないようにマニュアル等に明示する．同様に，火気取扱注意の旨を明示する（C-c）",null,null,{"$f":"IF(M32=0,\"\",M32)","v":"×"},{"$f":"IF(O32=0,\"\",O32)","v":"○"},{"$f":"IF(Q32=0,\"\",Q32)","v":"Ⅱ"},null,null,4,{"$f":"OFFSET($S$22,L32,0)","v":"×"},2,{"$f":"OFFSET($S$22,N32,0)","v":"○"},null,{"$f":"OFFSET($T$23,L32-1,N32-1)","v":"Ⅱ"}]
[null,"③追加のリスク低減措置の\n実装可否",null,"イ）　シーケンスの製作導入を行うことで実装可能である．"]
[null,null,null,"ロ）　既存のリスク低減措置などと干渉しあうことがないので，実装可能である．"]
[null,null,null,"ハ）　既存のリスク低減措置などと干渉しあうことがないので，実装可能である．"]
[null,null,null,"ニ）　既存のリスク低減措置などと干渉しあうことがないので，実装可能である．"]
[null,null,null,"ホ）　上記の対策に含めて火気取扱注意の掲示を行うことで可能である．"]
[null,"③リスク低減措置の機能を維持するための現場作業者への注意事項等",null,"イ）　インターロックについては，センサーや駆動部の外観点検を行う．また，定期的にインターロックの動作確認を行う．"]
[null,null,null,"ロ）　毎日の巡視において，表示がされていることを確認する．"]
[null,null,null,"ハ）　洗浄排水槽については，日常の点検で目視により外観に異常がないか確認する．また，定期的にスクラバーの点検，清掃を行う．"]
[null,null,null,"ニ）　接地線が断線していないことを定期的に確認する． "]
[null,null,null,"ホ）　毎日の巡視において，不安全行動がないかを確認するとともに，表示がされていることを確認する．"]
[null,"③その他，生産開始後の現場作業者に特に伝えておくべき事項",null,"残留リスクの有無の確認：有"]
[null,null,null,"本作業において粉じん爆発の可能性があることと，実装されているリスク低減措置及びその実装理由をマニュアル等に明示し，定期的に作業者への教育を行う．\n点検記録等のルールおよび管理規則や記録を確認する．"]
[null,"備　考"]

{"sheet":"シート (3)","index":3,"n_rows":45,"n_cols":23,"rows_kept":45,"cut":false,"hidden":false,"merged":[[42,1,43,2],[42,3,42,8],[43,3,43,8],[44,1,44,2],[44,3,44,8],[37,1,41,2],[37,3,37,8],[38,3,38,8],[39,3,39,8],[40,3,40,8],[41,3,41,8],[30,3,30,5],[31,3,31,5],[32,1,36,2],[32,3,32,8],[33,3,33,8],[34,3,34,8],[35,3,35,8],[36,3,36,8],[26,1,31,2],[26,3,26,5],[27,3,27,5],[28,3,28,5],[29,3,29,5],[21,1,21,2],[21,3,21,5],[21,6,25,8],[22,1,23,2],[24,1,25,2],[18,1,20,1],[18,3,18,5],[18,6,18,8],[19,3,19,5],[19,6,19,8],[20,3,20,5],[20,6,20,8],[16,1,17,2],[16,3,16,5],[16,6,17,8],[17,3,17,5],[8,6,8,8],[9,6,9,8],[12,1,12,2],[12,3,12,5],[12,6,12,8]]}
[{"$f":"COUNTIF(D28:F32,\"??????*\")","v":1},{"$f":"D17","v":"（操作）２．操作（仕込み・混合・払い出し）：全排出バルブを閉とする．"},{"$f":"D18","v":"（目的）ライン内を不活性雰囲気にし，粉じん爆発を防ぐ"}]
[null,{"$f":"IF(G9=0,\"\",G9)","v":"○年○月○日"},{"$f":"IF(G10=0,\"\",G10)","v":"○○○○"},{"$f":"IF(D19=0,\"\",D19)","v":""},{"$f":"IF(D20=0,\"\",D20)","v":""},{"$f":"IF(D21=0,\"\",D21)","v":""},{"$f":"IF(D22=0,\"\",D22)","v":"・○○○　＜種類＞＜目的＞"},{"$f":"IF(D24=$S$23,\"\",D24)","v":""},{"$f":"IF(E24=$S$23,\"\",E24)","v":""},{"$f":"IF(F24=$T$23,\"\",F24)","v":""},{"$f":"IF(D26=$S$23,\"\",D26)","v":""},{"$f":"IF(E26=$S$23,\"\",E26)","v":""},{"$f":"IF(F26=$T$23,\"\",F26)","v":""},{"$f":"IF(D28=0,\"\",D28)","v":"イ）○○○　＜種類＞＜目的＞\n・追加リスク低減措置ごとにリスクを見積り，評価する"},{"$f":"IF(G28=$S$23,\"\",G28)","v":""},{"$f":"IF(H28=$S$23,\"\",H28)","v":""},{"$f":"IF(I28=$T$23,\"\",I28)","v":""},{"$f":"IF(D33=0,\"\",D33)","v":"イ）"},{"$f":"IF(D38=0,\"\",D38)","v":"イ）"},{"$f":"CONCATENATE(IF(D43=0,\"\",D43),IF(D44=0,\"\",CHAR(10)),IF(D44=0,\"\",D44))","v":"残留リスクの有無の確認： 有　無\n残留リスクへの対応方法： "},{"$f":"IF(D45=0,\"\",D45)","v":""}]
[null,null,null,null,null,null,null,null,null,null,null,null,null,{"$f":"IF(D29=0,\"\",D29)","v":"ロ）"},{"$f":"G29","v":"選択してください"},"選択してください","自動表示します",{"$f":"IF(D34=0,\"\",D34)","v":"ロ）"},{"$f":"IF(D39=0,\"\",D39)","v":"ロ）"}]
[null,null,null,null,null,null,null,null,null,null,null,null,null,{"$f":"IF(D30=0,\"\",D30)","v":"ハ）"},"選択してください","選択してください","自動表示します",{"$f":"IF(D35=0,\"\",D35)","v":"ハ）"},{"$f":"IF(D40=0,\"\",D40)","v":"ハ）"}]
[null,null,null,null,null,null,null,null,null,null,null,null,null,{"$f":"IF(D31=0,\"\",D31)","v":"ニ）"},"選択してください","選択してください","自動表示します",{"$f":"IF(D36=0,\"\",D36)","v":"ニ）"},{"$f":"IF(D41=0,\"\",D41)","v":"ニ）"}]
[null,null,null,null,null,null,null,null,null,null,null,null,null,{"$f":"IF(D32=0,\"\",D32)","v":"ホ）"},"選択してください","選択してください","自動表示します",{"$f":"IF(D37=0,\"\",D37)","v":"ホ）"},{"$f":"IF(D42=0,\"\",D42)","v":"ホ）"}]
[null,null,"※この上６行は、実施結果シートへのデータ処理用に使用しています。改変をしないでください。※"]
[null,null,"プロセス災害防止のためのリスクアセスメント等実施シート"]
[null,null,null,null,null,"実施日","○年○月○日"]
[null,null,null,null,null,"実施者（記載者）","○○○○"]
[null,"STEP 1　取り扱い物質及びプロセスに係る危険源の把握"]
[]
[null,"取り扱い物質及びプロセスに係る危険源の把握結果",null,{"$f":"'シート (1)'!D13","v":"3 可燃性・引火性，5　可燃性粉じん，13　高圧・繰り返し昇圧・降圧，17　高電圧／高電流"},null,null,"表４の質問票で「はい」に○が付いた項目"]
[]
[null,"STEP 2　リスクアセスメント等の実施"]
[null,null,null,null,null,"太枠線内に記入　"]
[null,"作業・操作，設備・装置と\nその目的",null,{"$f":"'シート (1)'!D17","v":"（操作）２．操作（仕込み・混合・払い出し）：全排出バルブを閉とする．"}]
[null,null,null,{"$f":"'シート (1)'!D18","v":"（目的）ライン内を不活性雰囲気にし，粉じん爆発を防ぐ"}]
[null,"①引き金事象の特定とシナリオ同定","引き金事象\n（初期事象）",null,null,null,"（参考：表5～表7）"]
[null,null,"プロセス異常\n（中間事象）"]
[null,null,"プロセス災害\n（結果事象）",null,null,null,"（参考：表8，過去\nの事故事例など）"]
[null,"②既存のリスク低減措置の確認",null,"・○○○　＜種類＞＜目的＞",null,null,"●リスク低減措置実施（実装）の種類 （表9,10）\nA)　本質安全対策\nB)　工学的対策\nC)　管理的対策性\nD)　保護具着用\n●リスク低減措置の目的\na) 異常発生防止\nb) 異常発生検知\nc) 事故発生防止\nd) 被害の局限化",null,null,null,null,"※ボタンと自動表示の作業用です※"]
[null,"②リスク見積りと評価\n（その１）既存のリスク低減\n措置が無いと仮定した場合",null,"重篤度　(表11)","頻度　(表11)","リスクレベル　(表11)",null,null,null,null,null,null,null,null,null,null,null,null,"選択してください","自動表示します","自動表示します","自動表示します","自動表示します"]
[null,null,null,{"$f":"IF(M24=0,\"\",M24)","v":"選択してください"},{"$f":"IF(O24=0,\"\",O24)","v":"選択してください"},{"$f":"IF(Q24=0,\"\",Q24)","v":"自動表示します"},null,null,null,null,null,1,{"$f":"OFFSET($S$22,L24,0)","v":"選択してください"},1,{"$f":"OFFSET($S$22,N24,0)","v":"選択してください"},null,{"$f":"OFFSET($T$23,L24-1,N24-1)","v":"自動表示します"},null,"○","自動表示します","Ⅰ","Ⅰ","Ⅱ"]
[null,"②リスク見積りと評価\n（その２）既存のリスク低減\n措置の有効性確認",null,"重篤度","頻度","リスクレベル",null,null,null,null,null,null,null,null,null,null,null,null,"△","自動表示します","Ⅰ","Ⅱ","Ⅲ"]
[null,null,null,{"$f":"IF(M26=0,\"\",M26)","v":"選択してください"},{"$f":"IF(O26=0,\"\",O26)","v":"選択してください"},{"$f":"IF(Q26=0,\"\",Q26)","v":"自動表示します"},null,null,null,null,null,1,{"$f":"OFFSET($S$22,L26,0)","v":"選択してください"},1,{"$f":"OFFSET($S$22,N26,0)","v":"選択してください"},null,{"$f":"OFFSET($T$23,L26-1,N26-1)","v":"自動表示します"},null,"×","自動表示します","Ⅱ","Ⅲ","Ⅲ"]
[null,"③追加のリスク低減措置の検討＆\n③リスク見積りと評価（その３）\n追加のリスク低減措置の\n有効性確認",null,"太枠線内に記入　",null,null,"重篤度","頻度","リスクレベル"]
[null,null,null,"イ）○○○　＜種類＞＜目的＞\n・追加リスク低減措置ごとにリスクを見積り，評価する",null,null,{"$f":"IF(M28=0,\"\",M28)","v":"選択してください"},{"$f":"IF(O28=0,\"\",O28)","v":"選択してください"},{"$f":"IF(Q28=0,\"\",Q28)","v":"自動表示します"},null,null,1,{"$f":"OFFSET($S$22,L28,0)","v":"選択してください"},1,{"$f":"OFFSET($S$22,N28,0)","v":"選択してください"},null,{"$f":"OFFSET($T$23,L28-1,N28-1)","v":"自動表示します"}]
[null,null,null,"ロ）",null,null,{"$f":"IF(M29=0,\"\",M29)","v":"選択してください"},{"$f":"IF(O29=0,\"\",O29)","v":"選択してください"},{"$f":"IF(Q29=0,\"\",Q29)","v":"自動表示します"},null,null,1,{"$f":"OFFSET($S$22,L29,0)","v":"選択してください"},1,{"$f":"OFFSET($S$22,N29,0)","v":"選択してください"},null,{"$f":"OFFSET($T$23,L29-1,N29-1)","v":"自動表示します"}]
[null,null,null,"ハ）",null,null,{"$f":"IF(M30=0,\"\",M30)","v":"選択してください"},{"$f":"IF(O30=0,\"\",O30)","v":"選択してください"},{"$f":"IF(Q30=0,\"\",Q30)","v":"自動表示します"},null,null,1,{"$f":"OFFSET($S$22,L30,0)","v":"選択してください"},1,{"$f":"OFFSET($S$22,N30,0)","v":"選択してください"},null,{"$f":"OFFSET($T$23,L30-1,N30-1)","v":"自動表示します"}]
[null,null,null,"ニ）",null,null,{"$f":"IF(M31=0,\"\",M31)","v":"選択してください"},{"$f":"IF(O31=0,\"\",O31)","v":"選択してください"},{"$f":"IF(Q31=0,\"\",Q31)","v":"自動表示します"},null,null,1,{"$f":"OFFSET($S$22,L31,0)","v":"選択してください"},1,{"$f":"OFFSET($S$22,N31,0)","v":"選択してください"},null,{"$f":"OFFSET($T$23,L31-1,N31-1)","v":"自動表示します"}]
[null,null,null,"ホ）",null,null,{"$f":"IF(M32=0,\"\",M32)","v":"選択してください"},{"$f":"IF(O32=0,\"\",O32)","v":"選択してください"},{"$f":"IF(Q32=0,\"\",Q32)","v":"自動表示します"},null,null,1,{"$f":"OFFSET($S$22,L32,0)","v":"選択してください"},1,{"$f":"OFFSET($S$22,N32,0)","v":"選択してください"},null,{"$f":"OFFSET($T$23,L32-1,N32-1)","v":"自動表示します"}]
[null,"③追加のリスク低減措置の\n実装可否",null,"イ）"]
[null,null,null,"ロ）"]
[null,null,null,"ハ）"]
[null,null,null,"ニ）"]
[null,null,null,"ホ）"]
[null,"③リスク低減措置の機能を維持するための現場作業者への注意事項等",null,"イ）"]
[null,null,null,"ロ）"]
[null,null,null,"ハ）"]
[null,null,null,"ニ）"]
[null,null,null,"ホ）"]
[null,"③その他，生産開始後の現場作業者に特に伝えておくべき事項",null,"残留リスクの有無の確認： 有　無"]
[null,null,null,"残留リスクへの対応方法： "]
[null,"備　考"]

{"sheet":"シート (4)","index":4,"n_rows":45,"n_cols":23,"rows_kept":45,"cut":false,"hidden":false,"merged":[[42,1,43,2],[42,3,42,8],[43,3,43,8],[44,1,44,2],[44,3,44,8],[37,1,41,2],[37,3,37,8],[38,3,38,8],[39,3,39,8],[40,3,40,8],[41,3,41,8],[30,3,30,5],[31,3,31,5],[32,1,36,2],[32,3,32,8],[33,3,33,8],[34,3,34,8],[35,3,35,8],[36,3,36,8],[26,1,31,2],[26,3,26,5],[27,3,27,5],[28,3,28,5],[29,3,29,5],[21,1,21,2],[21,3,21,5],[21,6,25,8],[22,1,23,2],[24,1,25,2],[18,1,20,1],[18,3,18,5],[18,6,18,8],[19,3,19,5],[19,6,19,8],[20,3,20,5],[20,6,20,8],[16,1,17,2],[16,3,16,5],[16,6,17,8],[17,3,17,5],[8,6,8,8],[9,6,9,8],[12,1,12,2],[12,3,12,5],[12,6,12,8]]}
[{"$f":"COUNTIF(D28:F32,\"??????*\")","v":1},{"$f":"D17","v":"（操作）２．操作（仕込み・混合・払い出し）：全排出バルブを閉とする．"},{"$f":"D18","v":"（目的）ライン内を不活性雰囲気にし，粉じん爆発を防ぐ"}]
[null,{"$f":"IF(G9=0,\"\",G9)","v":"○年○月○日"},{"$f":"IF(G10=0,\"\",G10)","v":"○○○○"},{"$f":"IF(D19=0,\"\",D19)","v":""},{"$f":"IF(D20=0,\"\",D20)","v":""},{"$f":"IF(D21=0,\"\",D21)","v":""},{"$f":"IF(D22=0,\"\",D22)","v":"・○○○　＜種類＞＜目的＞"},{"$f":"IF(D24=$S$23,\"\",D24)","v":""},{"$f":"IF(E24=$S$23,\"\",E24)","v":""},{"$f":"IF(F24=$T$23,\"\",F24)","v":""},{"$f":"IF(D26=$S$23,\"\",D26)","v":""},{"$f":"IF(E26=$S$23,\"\",E26)","v":""},{"$f":"IF(F26=$T$23,\"\",F26)","v":""},{"$f":"IF(D28=0,\"\",D28)","v":"イ）○○○　＜種類＞＜目的＞\n・追加リスク低減措置ごとにリスクを見積り，評価する"},{"$f":"IF(G28=$S$23,\"\",G28)","v":""},{"$f":"IF(H28=$S$23,\"\",H28)","v":""},{"$f":"IF(I28=$T$23,\"\",I28)","v":""},{"$f":"IF(D33=0,\"\",D33)","v":"イ）　"},{"$f":"IF(D38=0,\"\",D38)","v":"イ）　"},{"$f":"CONCATENATE(IF(D43=0,\"\",D43),IF(D44=0,\"\",CHAR(10)),IF(D44=0,\"\",D44))","v":"残留リスクの有無の確認： 有　無\n残留リスクへの対応方法： "},{"$f":"IF(D45=0,\"\",D45)","v":""}]
[null,null,null,null,null,null,null,null,null,null,null,null,null,{"$f":"IF(D29=0,\"\",D29)","v":"ロ）　"},{"$f":"G29","v":"選択してください"},"選択してください","自動表示します",{"$f":"IF(D34=0,\"\",D34)","v":"ロ）　"},{"$f":"IF(D39=0,\"\",D39)","v":"ロ）　"}]
[null,null,null,null,null,null,null,null,null,null,null,null,null,{"$f":"IF(D30=0,\"\",D30)","v":"ハ）　"},"選択してください","選択してください","自動表示します",{"$f":"IF(D35=0,\"\",D35)","v":"ハ）　"},{"$f":"IF(D40=0,\"\",D40)","v":"ハ）　"}]
[null,null,null,null,null,null,null,null,null,null,null,null,null,{"$f":"IF(D31=0,\"\",D31)","v":"ニ）　"},"選択してください","選択してください","自動表示します",{"$f":"IF(D36=0,\"\",D36)","v":"ニ）　"},{"$f":"IF(D41=0,\"\",D41)","v":"ニ）　"}]
[null,null,null,null,null,null,null,null,null,null,null,null,null,{"$f":"IF(D32=0,\"\",D32)","v":"ホ）　"},"選択してください","選択してください","自動表示します",{"$f":"IF(D37=0,\"\",D37)","v":"ホ）　"},{"$f":"IF(D42=0,\"\",D42)","v":"ホ）　"}]
[null,null,"※この上６行は、実施結果シートへのデータ処理用に使用しています。改変をしないでください。※"]
[null,null,"プロセス災害防止のためのリスクアセスメント等実施シート"]
[null,null,null,null,null,"実施日","○年○月○日"]
[null,null,null,null,null,"実施者（記載者）","○○○○"]
[null,"STEP 1　取り扱い物質及びプロセスに係る危険源の把握"]
[]
[null,"取り扱い物質及びプロセスに係る危険源の把握結果",null,{"$f":"'シート (1)'!D13","v":"3 可燃性・引火性，5　可燃性粉じん，13　高圧・繰り返し昇圧・降圧，17　高電圧／高電流"},null,null,"表４の質問票で「はい」に○が付いた項目"]
[]
[null,"STEP 2　リスクアセスメント等の実施"]
[null,null,null,null,null,"太枠線内に記入　"]
[null,"作業・操作，設備・装置と\nその目的",null,{"$f":"'シート (1)'!D17","v":"（操作）２．操作（仕込み・混合・払い出し）：全排出バルブを閉とする．"}]
[null,null,null,{"$f":"'シート (1)'!D18","v":"（目的）ライン内を不活性雰囲気にし，粉じん爆発を防ぐ"}]
[null,"①引き金事象の特定とシナリオ同定","引き金事象\n（初期事象）",null,null,null,"（参考：表5～表7）"]
[null,null,"プロセス異常\n（中間事象）"]
[null,null,"プロセス災害\n（結果事象）",null,null,null,"（参考：表8，過去\nの事故事例など）"]
[null,"②既存のリスク低減措置の確認",null,"・○○○　＜種類＞＜目的＞",null,null,"●リスク低減措置実施（実装）の種類 （表9,10）\nA)　本質安全対策\nB)　工学的対策\nC)　管理的対策性\nD)　保護具着用\n●リスク低減措置の目的\na) 異常発生防止\nb) 異常発生検知\nc) 事故発生防止\nd) 被害の局限化",null,null,null,null,"※ボタンと自動表示の作業用です※"]
[null,"②リスク見積りと評価\n（その１）既存のリスク低減\n措置が無いと仮定した場合",null,"重篤度　(表11)","頻度　(表11)","リスクレベル　(表11)",null,null,null,null,null,null,null,null,null,null,null,null,"選択してください","自動表示します","自動表示します","自動表示します","自動表示します"]
[null,null,null,{"$f":"IF(M24=0,\"\",M24)","v":"選択してください"},{"$f":"IF(O24=0,\"\",O24)","v":"選択してください"},{"$f":"IF(Q24=0,\"\",Q24)","v":"自動表示します"},null,null,null,null,null,1,{"$f":"OFFSET($S$22,L24,0)","v":"選択してください"},1,{"$f":"OFFSET($S$22,N24,0)","v":"選択してください"},null,{"$f":"OFFSET($T$23,L24-1,N24-1)","v":"自動表示します"},null,"○","自動表示します","Ⅰ","Ⅰ","Ⅱ"]
[null,"②リスク見積りと評価\n（その２）既存のリスク低減\n措置の有効性確認",null,"重篤度","頻度","リスクレベル",null,null,null,null,null,null,null,null,null,null,null,null,"△","自動表示します","Ⅰ","Ⅱ","Ⅲ"]
[null,null,null,{"$f":"IF(M26=0,\"\",M26)","v":"選択してください"},{"$f":"IF(O26=0,\"\",O26)","v":"選択してください"},{"$f":"IF(Q26=0,\"\",Q26)","v":"自動表示します"},null,null,null,null,null,1,{"$f":"OFFSET($S$22,L26,0)","v":"選択してください"},1,{"$f":"OFFSET($S$22,N26,0)","v":"選択してください"},null,{"$f":"OFFSET($T$23,L26-1,N26-1)","v":"自動表示します"},null,"×","自動表示します","Ⅱ","Ⅲ","Ⅲ"]
[null,"③追加のリスク低減措置の検討＆\n③リスク見積りと評価（その３）\n追加のリスク低減措置の\n有効性確認",null,"太枠線内に記入　",null,null,"重篤度","頻度","リスクレベル"]
[null,null,null,"イ）○○○　＜種類＞＜目的＞\n・追加リスク低減措置ごとにリスクを見積り，評価する",null,null,{"$f":"IF(M28=0,\"\",M28)","v":"選択してください"},{"$f":"IF(O28=0,\"\",O28)","v":"選択してください"},{"$f":"IF(Q28=0,\"\",Q28)","v":"自動表示します"},null,null,1,{"$f":"OFFSET($S$22,L28,0)","v":"選択してください"},1,{"$f":"OFFSET($S$22,N28,0)","v":"選択してください"},null,{"$f":"OFFSET($T$23,L28-1,N28-1)","v":"自動表示します"}]
[null,null,null,"ロ）　",null,null,{"$f":"IF(M29=0,\"\",M29)","v":"選択してください"},{"$f":"IF(O29=0,\"\",O29)","v":"選択してください"},{"$f":"IF(Q29=0,\"\",Q29)","v":"自動表示します"},null,null,1,{"$f":"OFFSET($S$22,L29,0)","v":"選択してください"},1,{"$f":"OFFSET($S$22,N29,0)","v":"選択してください"},null,{"$f":"OFFSET($T$23,L29-1,N29-1)","v":"自動表示します"}]
[null,null,null,"ハ）　",null,null,{"$f":"IF(M30=0,\"\",M30)","v":"選択してください"},{"$f":"IF(O30=0,\"\",O30)","v":"選択してください"},{"$f":"IF(Q30=0,\"\",Q30)","v":"自動表示します"},null,null,1,{"$f":"OFFSET($S$22,L30,0)","v":"選択してください"},1,{"$f":"OFFSET($S$22,N30,0)","v":"選択してください"},null,{"$f":"OFFSET($T$23,L30-1,N30-1)","v":"自動表示します"}]
[null,null,null,"ニ）　",null,null,{"$f":"IF(M31=0,\"\",M31)","v":"選択してください"},{"$f":"IF(O31=0,\"\",O31)","v":"選択してください"},{"$f":"IF(Q31=0,\"\",Q31)","v":"自動表示します"},null,null,1,{"$f":"OFFSET($S$22,L31,0)","v":"選択してください"},1,{"$f":"OFFSET($S$22,N31,0)","v":"選択してください"},null,{"$f":"OFFSET($T$23,L31-1,N31-1)","v":"自動表示します"}]
[null,null,null,"ホ）　",null,null,{"$f":"IF(M32=0,\"\",M32)","v":"選択してください"},{"$f":"IF(O32=0,\"\",O32)","v":"選択してください"},{"$f":"IF(Q32=0,\"\",Q32)","v":"自動表示します"},null,null,1,{"$f":"OFFSET($S$22,L32,0)","v":"選択してください"},1,{"$f":"OFFSET($S$22,N32,0)","v":"選択してください"},null,{"$f":"OFFSET($T$23,L32-1,N32-1)","v":"自動表示します"}]
[null,"③追加のリスク低減措置の\n実装可否",null,"イ）　"]
[null,null,null,"ロ）　"]
[null,null,null,"ハ）　"]
[null,null,null,"ニ）　"]
[null,null,null,"ホ）　"]
[null,"③リスク低減措置の機能を維持するための現場作業者への注意事項等",null,"イ）　"]
[null,null,null,"ロ）　"]
[null,null,null,"ハ）　"]
[null,null,null,"ニ）　"]
[null,null,null,"ホ）　"]
[null,"③その他，生産開始後の現場作業者に特に伝えておくべき事項",null,"残留リスクの有無の確認： 有　無"]
[null,null,null,"残留リスクへの対応方法： "]
[null,"備　考"]

{"sheet":"シート (5)","index":5,"n_rows":45,"n_cols":23,"rows_kept":45,"cut":false,"hidden":false,"merged":[[16,1,17,2],[16,3,16,5],[16,6,17,8],[17,3,17,5],[8,6,8,8],[9,6,9,8],[12,1,12,2],[12,3,12,5],[12,6,12,8],[18,1,20,1],[18,3,18,5],[18,6,18,8],[19,3,19,5],[19,6,19,8],[20,3,20,5],[20,6,20,8],[21,1,21,2],[21,3,21,5],[21,6,25,8],[22,1,23,2],[24,1,25,2],[30,3,30,5],[31,3,31,5],[32,1,36,2],[32,3,32,8],[33,3,33,8],[34,3,34,8],[35,3,35,8],[36,3,36,8],[26,1,31,2],[26,3,26,5],[27,3,27,5],[28,3,28,5],[29,3,29,5],[37,1,41,2],[37,3,37,8],[38,3,38,8],[39,3,39,8],[40,3,40,8],[41,3,41,8],[42,1,43,2],[42,3,42,8],[43,3,43,8],[44,1,44,2],[44,3,44,8]]}
[{"$f":"COUNTIF(D28:F32,\"??????*\")","v":1},{"$f":"D17","v":"（操作）２．操作（仕込み・混合・払い出し）：全排出バルブを閉とする．"},{"$f":"D18","v":"（目的）ライン内を不活性雰囲気にし，粉じん爆発を防ぐ"}]
[null,{"$f":"IF(G9=0,\"\",G9)","v":"○年○月○日"},{"$f":"IF(G10=0,\"\",G10)","v":"○○○○"},{"$f":"IF(D19=0,\"\",D19)","v":""},{"$f":"IF(D20=0,\"\",D20)","v":""},{"$f":"IF(D21=0,\"\",D21)","v":""},{"$f":"IF(D22=0,\"\",D22)","v":"・○○○　＜種類＞＜目的＞"},{"$f":"IF(D24=$S$23,\"\",D24)","v":""},{"$f":"IF(E24=$S$23,\"\",E24)","v":""},{"$f":"IF(F24=$T$23,\"\",F24)","v":""},{"$f":"IF(D26=$S$23,\"\",D26)","v":""},{"$f":"IF(E26=$S$23,\"\",E26)","v":""},{"$f":"IF(F26=$T$23,\"\",F26)","v":""},{"$f":"IF(D28=0,\"\",D28)","v":"イ）○○○　＜種類＞＜目的＞\n・追加リスク低減措置ごとにリスクを見積り，評価する"},{"$f":"IF(G28=$S$23,\"\",G28)","v":""},{"$f":"IF(H28=$S$23,\"\",H28)","v":""},{"$f":"IF(I28=$T$23,\"\",I28)","v":""},{"$f":"IF(D33=0,\"\",D33)","v":"イ）　"},{"$f":"IF(D38=0,\"\",D38)","v":"イ）　"},{"$f":"CONCATENATE(IF(D43=0,\"\",D43),IF(D44=0,\"\",CHAR(10)),IF(D44=0,\"\",D44))","v":"残留リスクの有無の確認： 有　無\n残留リスクへの対応方法： "},{"$f":"IF(D45=0,\"\",D45)","v":""}]
[null,null,null,null,null,null,null,null,null,null,null,null,null,{"$f":"IF(D29=0,\"\",D29)","v":"ロ）　"},{"$f":"G29","v":"選択してください"},"選択してください","自動表示します",{"$f":"IF(D34=0,\"\",D34)","v":"ロ）　"},{"$f":"IF(D39=0,\"\",D39)","v":"ロ）　"}]
[null,null,null,null,null,null,null,null,null,null,null,null,null,{"$f":"IF(D30=0,\"\",D30)","v":"ハ）　"},"選択してください","選択してください","自動表示します",{"$f":"IF(D35=0,\"\",D35)","v":"ハ）　"},{"$f":"IF(D40=0,\"\",D40)","v":"ハ）　"}]
[null,null,null,null,null,null,null,null,null,null,null,null,null,{"$f":"IF(D31=0,\"\",D31)","v":"ニ）　"},"選択してください","選択してください","自動表示します",{"$f":"IF(D36=0,\"\",D36)","v":"ニ）　"},{"$f":"IF(D41=0,\"\",D41)","v":"ニ）　"}]
[null,null,null,null,null,null,null,null,null,null,null,null,null,{"$f":"IF(D32=0,\"\",D32)","v":"ホ）　"},"選択してください","選択してください","自動表示します",{"$f":"IF(D37=0,\"\",D37)","v":"ホ）　"},{"$f":"IF(D42=0,\"\",D42)","v":"ホ）　"}]
[null,null,"※この上６行は、実施結果シートへのデータ処理用に使用しています。改変をしないでください。※"]
[null,null,"プロセス災害防止のためのリスクアセスメント等実施シート"]
[null,null,null,null,null,"実施日","○年○月○日"]
[null,null,null,null,null,"実施者（記載者）","○○○○"]
[null,"STEP 1　取り扱い物質及びプロセスに係る危険源の把握"]
[]
[null,"取り扱い物質及びプロセスに係る危険源の把握結果",null,{"$f":"'シート (1)'!D13","v":"3 可燃性・引火性，5　可燃性粉じん，13　高圧・繰り返し昇圧・降圧，17　高電圧／高電流"},null,null,"表４の質問票で「はい」に○が付いた項目"]
[]
[null,"STEP 2　リスクアセスメント等の実施"]
[null,null,null,null,null,"太枠線内に記入　"]
[null,"作業・操作，設備・装置と\nその目的",null,{"$f":"'シート (1)'!D17","v":"（操作）２．操作（仕込み・混合・払い出し）：全排出バルブを閉とする．"}]
[null,null,null,{"$f":"'シート (1)'!D18","v":"（目的）ライン内を不活性雰囲気にし，粉じん爆発を防ぐ"}]
[null,"①引き金事象の特定とシナリオ同定","引き金事象\n（初期事象）",null,null,null,"（参考：表5～表7）"]
[null,null,"プロセス異常\n（中間事象）"]
[null,null,"プロセス災害\n（結果事象）",null,null,null,"（参考：表8，過去\nの事故事例など）"]
[null,"②既存のリスク低減措置の確認",null,"・○○○　＜種類＞＜目的＞",null,null,"●リスク低減措置実施（実装）の種類 （表9,10）\nA)　本質安全対策\nB)　工学的対策\nC)　管理的対策性\nD)　保護具着用\n●リスク低減措置の目的\na) 異常発生防止\nb) 異常発生検知\nc) 事故発生防止\nd) 被害の局限化",null,null,null,null,"※ボタンと自動表示の作業用です※"]
[null,"②リスク見積りと評価\n（その１）既存のリスク低減\n措置が無いと仮定した場合",null,"重篤度　(表11)","頻度　(表11)","リスクレベル　(表11)",null,null,null,null,null,null,null,null,null,null,null,null,"選択してください","自動表示します","自動表示します","自動表示します","自動表示します"]
[null,null,null,{"$f":"IF(M24=0,\"\",M24)","v":"選択してください"},{"$f":"IF(O24=0,\"\",O24)","v":"選択してください"},{"$f":"IF(Q24=0,\"\",Q24)","v":"自動表示します"},null,null,null,null,null,1,{"$f":"OFFSET($S$22,L24,0)","v":"選択してください"},1,{"$f":"OFFSET($S$22,N24,0)","v":"選択してください"},null,{"$f":"OFFSET($T$23,L24-1,N24-1)","v":"自動表示します"},null,"○","自動表示します","Ⅰ","Ⅰ","Ⅱ"]
[null,"②リスク見積りと評価\n（その２）既存のリスク低減\n措置の有効性確認",null,"重篤度","頻度","リスクレベル",null,null,null,null,null,null,null,null,null,null,null,null,"△","自動表示します","Ⅰ","Ⅱ","Ⅲ"]
[null,null,null,{"$f":"IF(M26=0,\"\",M26)","v":"選択してください"},{"$f":"IF(O26=0,\"\",O26)","v":"選択してください"},{"$f":"IF(Q26=0,\"\",Q26)","v":"自動表示します"},null,null,null,null,null,1,{"$f":"OFFSET($S$22,L26,0)","v":"選択してください"},1,{"$f":"OFFSET($S$22,N26,0)","v":"選択してください"},null,{"$f":"OFFSET($T$23,L26-1,N26-1)","v":"自動表示します"},null,"×","自動表示します","Ⅱ","Ⅲ","Ⅲ"]
[null,"③追加のリスク低減措置の検討＆\n③リスク見積りと評価（その３）\n追加のリスク低減措置の\n有効性確認",null,"太枠線内に記入　",null,null,"重篤度","頻度","リスクレベル"]
[null,null,null,"イ）○○○　＜種類＞＜目的＞\n・追加リスク低減措置ごとにリスクを見積り，評価する",null,null,{"$f":"IF(M28=0,\"\",M28)","v":"選択してください"},{"$f":"IF(O28=0,\"\",O28)","v":"選択してください"},{"$f":"IF(Q28=0,\"\",Q28)","v":"自動表示します"},null,null,1,{"$f":"OFFSET($S$22,L28,0)","v":"選択してください"},1,{"$f":"OFFSET($S$22,N28,0)","v":"選択してください"},null,{"$f":"OFFSET($T$23,L28-1,N28-1)","v":"自動表示します"}]
[null,null,null,"ロ）　",null,null,{"$f":"IF(M29=0,\"\",M29)","v":"選択してください"},{"$f":"IF(O29=0,\"\",O29)","v":"選択してください"},{"$f":"IF(Q29=0,\"\",Q29)","v":"自動表示します"},null,null,1,{"$f":"OFFSET($S$22,L29,0)","v":"選択してください"},1,{"$f":"OFFSET($S$22,N29,0)","v":"選択してください"},null,{"$f":"OFFSET($T$23,L29-1,N29-1)","v":"自動表示します"}]
[null,null,null,"ハ）　",null,null,{"$f":"IF(M30=0,\"\",M30)","v":"選択してください"},{"$f":"IF(O30=0,\"\",O30)","v":"選択してください"},{"$f":"IF(Q30=0,\"\",Q30)","v":"自動表示します"},null,null,1,{"$f":"OFFSET($S$22,L30,0)","v":"選択してください"},1,{"$f":"OFFSET($S$22,N30,0)","v":"選択してください"},null,{"$f":"OFFSET($T$23,L30-1,N30-1)","v":"自動表示します"}]
[null,null,null,"ニ）　",null,null,{"$f":"IF(M31=0,\"\",M31)","v":"選択してください"},{"$f":"IF(O31=0,\"\",O31)","v":"選択してください"},{"$f":"IF(Q31=0,\"\",Q31)","v":"自動表示します"},null,null,1,{"$f":"OFFSET($S$22,L31,0)","v":"選択してください"},1,{"$f":"OFFSET($S$22,N31,0)","v":"選択してください"},null,{"$f":"OFFSET($T$23,L31-1,N31-1)","v":"自動表示します"}]
[null,null,null,"ホ）　",null,null,{"$f":"IF(M32=0,\"\",M32)","v":"選択してください"},{"$f":"IF(O32=0,\"\",O32)","v":"選択してください"},{"$f":"IF(Q32=0,\"\",Q32)","v":"自動表示します"},null,null,1,{"$f":"OFFSET($S$22,L32,0)","v":"選択してください"},1,{"$f":"OFFSET($S$22,N32,0)","v":"選択してください"},null,{"$f":"OFFSET($T$23,L32-1,N32-1)","v":"自動表示します"}]
[null,"③追加のリスク低減措置の\n実装可否",null,"イ）　"]
[null,null,null,"ロ）　"]
[null,null,null,"ハ）　"]
[null,null,null,"ニ）　"]
[null,null,null,"ホ）　"]
[null,"③リスク低減措置の機能を維持するための現場作業者への注意事項等",null,"イ）　"]
[null,null,null,"ロ）　"]
[null,null,null,"ハ）　"]
[null,null,null,"ニ）　"]
[null,null,null,"ホ）　"]
[null,"③その他，生産開始後の現場作業者に特に伝えておくべき事項",null,"残留リスクの有無の確認： 有　無"]
[null,null,null,"残留リスクへの対応方法： "]
[null,"備　考"]